BEGIN:VCALENDAR
VERSION:2.0
PRODID:-//eventon.com NONSGML v1.0//EN
CALSCALE:GREGORIAN
METHOD:PUBLISH
BEGIN:VEVENT
UID:69e5df10b0ea8
DTSTAMP:20260420T080848Z
DTSTART:20220226
DTEND:20220227
LOCATION:United Sports Training Center (USTC) 1426 Marshallton Thorndale Rd
SUMMARY:Penn Fusion Winter Showcase
DESCRIPTION:If you will be attending this tournament\,  please let us know 
 by clicking the button below and filling out the form. add me to your &#822
 0;players to watch&#8221; list\nhttps://www.dipsoccer.com/events/penn-fusio
 n-winter-showcase-2/
URL:https://www.dipsoccer.com/events/penn-fusion-winter-showcase-2/
END:VEVENT
END:VCALENDAR