BEGIN:VCALENDAR
VERSION:2.0
PRODID:-//eventon.com NONSGML v1.0//EN
CALSCALE:GREGORIAN
METHOD:PUBLISH
BEGIN:VEVENT
UID:69e736d5c3b1a
DTSTAMP:20260421T083533Z
DTSTART:20211218T140000Z
DTEND:20211218T200000Z
LOCATION:Lancaster Mennonite High School 2176 Lincoln Hwy E
SUMMARY:2021 Winter ID Clinic
DESCRIPTION:Participants will experience the same training from the F&amp;M
  Men’s Soccer Staff that the current men’s soccer players experience on
  a daily basis. In addition to the on-field training\,  participants will a
 lso participate in competitive environments. Players will receive written f
 eedback on their play in the week following the camp.[..]\nhttps://www.dips
 occer.com/events/2021-winter-id-clinic/
URL:https://www.dipsoccer.com/events/2021-winter-id-clinic/
END:VEVENT
END:VCALENDAR